BEGIN:VCALENDAR
VERSION:2.0
PRODID:-//TYPO3/NONSGML Calendarize//EN


BEGIN:VEVENT
UID:calendarize-20-septembri-plkst-1600-atklas-paulam-valdenam-veltito-izstadi-un-diskusiju
DTSTAMP:20230907T125630Z

DTSTART:20230920T130000Z
DTEND:20230920T140000Z
    
SUMMARY:20. septembrī plkst. 16.00 atklās Paulam Valdenam veltīto izstādi un diskusiju
DESCRIPTION:Aicinām uz izcilajam zinātniekam\, ķīmiķim un fiziķim\, Paulam Valdenam veltītās izstādes atklāšanu un diskusiju 20. septembrī plkst. 16.00 Latvijas Universitātes (LU) Bibliotēkas Dabaszinātņu bibliotēkā LU Akadēmiskā centra Dabas mājā\, Jelgavas ielā 1.\nIzstādes vizuālo materiālu veido P. Valdena darbi\, informācija un\, laikabiedru atziņas par viņu un zinātnieka publikāciju apkopojums. Izstādē iekļauti gan LU Bibliotēkas krājumā esošie izdevumi\, gan materiāli no Rīgas Tehniskās universitātes Zinātniskās bibliotēkas Ķīmijas filiāles bibliotēkas.\nPēc izstādes atklāšanas sekos kopīgi ar LU Ķīmijas fakultāti un Latvijas Organiskās sintēzes institūtu organizēta diskusija\, kurā Ķīmijas fakultātes asociētais profesors Guntars Vaivars interesentus iepazīstinās ar P. Valdena ceļa turpinātājiem Latvijā\, Ķīmijas fakultātes vadošais pētnieks Eduards Baķis informēs par jaunākajiem pētījumiem jonu šķidrumu jomā. Savukārt Latvijas Organiskās sintēzes institūta zinātniskais līdzstrādnieks Andris Amoliņš stāstīs par to\, kā skats uz P. Valdena dzīvi un darbu mainījies laika ritumā\nLaipni aicināti!
X-ALT-DESC;FMTTYPE=text/html:<p>Aicinām uz izcilajam zinātniekam\, ķīmiķim un fiziķim\, Paulam Valdenam veltītās izstādes atklāšanu un diskusiju 20. septembrī plkst. 16.00 Latvijas Universitātes (LU) Bibliotēkas Dabaszinātņu bibliotēkā LU Akadēmiskā centra Dabas mājā\, Jelgavas ielā 1.</p>\n<p>Izstādes vizuālo materiālu veido P. Valdena darbi\, informācija un\, laikabiedru atziņas par viņu un zinātnieka publikāciju apkopojums. Izstādē iekļauti gan LU Bibliotēkas krājumā esošie izdevumi\, gan materiāli no Rīgas Tehniskās universitātes Zinātniskās bibliotēkas Ķīmijas filiāles bibliotēkas.</p>\n<p>Pēc izstādes atklāšanas sekos kopīgi ar LU Ķīmijas fakultāti un Latvijas Organiskās sintēzes institūtu organizēta diskusija\, kurā Ķīmijas fakultātes asociētais profesors Guntars Vaivars interesentus iepazīstinās ar P. Valdena ceļa turpinātājiem Latvijā\, Ķīmijas fakultātes vadošais pētnieks Eduards Baķis informēs par jaunākajiem pētījumiem jonu šķidrumu jomā. Savukārt Latvijas Organiskās sintēzes institūta zinātniskais līdzstrādnieks Andris Amoliņš stāstīs par to\, kā skats uz P. Valdena dzīvi un darbu mainījies laika ritumā</p>\n<p>Laipni aicināti!</p>
LOCATION:Jelgavas ielā 1
END:VEVENT

END:VCALENDAR