BEGIN:VCALENDAR
VERSION:2.0
PRODID:-//TYPO3/NONSGML Calendarize//EN


BEGIN:VEVENT
UID:calendarize-nodarbiba-maksliga-intelekta-pratiba-informacijpratibas-skatijums-20260420
DTSTAMP:20260424T122749Z

DTSTART:20260420T130000Z
DTEND:20260420T143000Z
    
SUMMARY:Nodarbība "Mākslīgā intelekta pratība: informācijpratības skatījums"
DESCRIPTION:Plašāka informācija
X-ALT-DESC;FMTTYPE=text/html:<p><a href="t3://page?uid=106477">Plašāka informācija</a></p>
LOCATION:
END:VEVENT

END:VCALENDAR